BEGIN:VCALENDAR
VERSION:2.0
PRODID:-//Treasure&#039;s Hope - ECPv6.15.20//NONSGML v1.0//EN
CALSCALE:GREGORIAN
METHOD:PUBLISH
X-ORIGINAL-URL:https://treasureshope.org
X-WR-CALDESC:Events for Treasure&#039;s Hope
REFRESH-INTERVAL;VALUE=DURATION:PT1H
X-Robots-Tag:noindex
X-PUBLISHED-TTL:PT1H
BEGIN:VTIMEZONE
TZID:America/New_York
BEGIN:DAYLIGHT
TZOFFSETFROM:-0500
TZOFFSETTO:-0400
TZNAME:EDT
DTSTART:20190310T070000
END:DAYLIGHT
BEGIN:STANDARD
TZOFFSETFROM:-0400
TZOFFSETTO:-0500
TZNAME:EST
DTSTART:20191103T060000
END:STANDARD
BEGIN:DAYLIGHT
TZOFFSETFROM:-0500
TZOFFSETTO:-0400
TZNAME:EDT
DTSTART:20200308T070000
END:DAYLIGHT
BEGIN:STANDARD
TZOFFSETFROM:-0400
TZOFFSETTO:-0500
TZNAME:EST
DTSTART:20201101T060000
END:STANDARD
BEGIN:DAYLIGHT
TZOFFSETFROM:-0500
TZOFFSETTO:-0400
TZNAME:EDT
DTSTART:20210314T070000
END:DAYLIGHT
BEGIN:STANDARD
TZOFFSETFROM:-0400
TZOFFSETTO:-0500
TZNAME:EST
DTSTART:20211107T060000
END:STANDARD
BEGIN:DAYLIGHT
TZOFFSETFROM:-0500
TZOFFSETTO:-0400
TZNAME:EDT
DTSTART:20220313T070000
END:DAYLIGHT
BEGIN:STANDARD
TZOFFSETFROM:-0400
TZOFFSETTO:-0500
TZNAME:EST
DTSTART:20221106T060000
END:STANDARD
BEGIN:DAYLIGHT
TZOFFSETFROM:-0500
TZOFFSETTO:-0400
TZNAME:EDT
DTSTART:20230312T070000
END:DAYLIGHT
BEGIN:STANDARD
TZOFFSETFROM:-0400
TZOFFSETTO:-0500
TZNAME:EST
DTSTART:20231105T060000
END:STANDARD
BEGIN:DAYLIGHT
TZOFFSETFROM:-0500
TZOFFSETTO:-0400
TZNAME:EDT
DTSTART:20240310T070000
END:DAYLIGHT
BEGIN:STANDARD
TZOFFSETFROM:-0400
TZOFFSETTO:-0500
TZNAME:EST
DTSTART:20241103T060000
END:STANDARD
END:VTIMEZONE
BEGIN:VEVENT
DTSTART;TZID=America/New_York:20230930T120000
DTEND;TZID=America/New_York:20230930T160000
DTSTAMP:20260423T113216
CREATED:20230704T194213Z
LAST-MODIFIED:20230909T131332Z
UID:1079-1696075200-1696089600@treasureshope.org
SUMMARY:Pet Adoption Event | Warren County
DESCRIPTION:Join us for a day fun\, music\, food\, and of course… pets. Dogs MUST be socialized and on a non-retractable leash; 1 dog per owner. This is a non-profit event; donations welcomed on our site or at the event! \nVendors: $25 per vendor. Interested in becoming a vendor? Please download our Vendor Registration Form. \nWe thank our sponsor S&A Pet Supply\, and Mohican Farms for hosting this event.
URL:https://treasureshope.org/event/pet-adoption/
LOCATION:Mohican Farms\, 45 Mohican Rd. Blairstown\, Blairstown\, NJ\, 07825\, United States
ATTACH;FMTTYPE=image/jpeg:https://treasureshope.org/wp-content/uploads/2023/07/Social-Media-Event.jpg
END:VEVENT
BEGIN:VEVENT
DTSTART;TZID=America/New_York:20201025T120000
DTEND;TZID=America/New_York:20201025T140000
DTSTAMP:20260423T113216
CREATED:20201015T171933Z
LAST-MODIFIED:20201015T172116Z
UID:1071-1603627200-1603634400@treasureshope.org
SUMMARY:Howl-o-ween party at Petvalu
DESCRIPTION:Join us and other rescues for a party filled with raffles\, kids coloring table\, 1pm costume parade goody bags and much more
URL:https://treasureshope.org/event/howl-o-ween-party-at-petvalu/
LOCATION:Petvalu Phillipsburg\, 1272 US Highway 22\, Phillipsburg\, NJ\, 08865\, United States
ATTACH;FMTTYPE=image/jpeg:https://treasureshope.org/wp-content/uploads/2020/10/petvalu-event-2020.jpg
END:VEVENT
END:VCALENDAR